BEGIN:VCALENDAR
VERSION:2.0
PRODID:-//Altstadtfreunde Altdorf - ECPv5.3.1//NONSGML v1.0//EN
CALSCALE:GREGORIAN
METHOD:PUBLISH
X-WR-CALNAME:Altstadtfreunde Altdorf
X-ORIGINAL-URL:https://www.altstadtfreunde-altdorf.de
X-WR-CALDESC:Veranstaltungen für Altstadtfreunde Altdorf
BEGIN:VTIMEZONE
TZID:Europe/Berlin
BEGIN:DAYLIGHT
TZOFFSETFROM:+0100
TZOFFSETTO:+0200
TZNAME:CEST
DTSTART:20260329T010000
END:DAYLIGHT
BEGIN:STANDARD
TZOFFSETFROM:+0200
TZOFFSETTO:+0100
TZNAME:CET
DTSTART:20261025T010000
END:STANDARD
END:VTIMEZONE
BEGIN:VEVENT
DTSTART;TZID=Europe/Berlin:20261213T150000
DTEND;TZID=Europe/Berlin:20261213T200000
DTSTAMP:20260421T170937
CREATED:20251128T120935Z
LAST-MODIFIED:20251128T120935Z
UID:7601-1797174000-1797192000@www.altstadtfreunde-altdorf.de
SUMMARY:Weihnachtsmarkt im Hof des Wicherhauses
DESCRIPTION:Wir laden Sie recht herzlich zum Besuch unserer Bude und zum Besuch der\nKrippenausstellung von Peter Reus ein.
URL:https://www.altstadtfreunde-altdorf.de/veranstaltung/weihnachtsmarkt-im-hof-des-wicherhauses-3/
LOCATION:Innenhof Wicherhaus\, Silbergasse 2\, Altdorf\, 90518 
CATEGORIES:Altstadtfreunde
END:VEVENT
END:VCALENDAR