BEGIN:VCALENDAR
VERSION:2.0
PRODID:-//Altstadtfreunde Altdorf - ECPv5.3.1//NONSGML v1.0//EN
CALSCALE:GREGORIAN
METHOD:PUBLISH
X-WR-CALNAME:Altstadtfreunde Altdorf
X-ORIGINAL-URL:https://www.altstadtfreunde-altdorf.de
X-WR-CALDESC:Veranstaltungen für Altstadtfreunde Altdorf
BEGIN:VTIMEZONE
TZID:Europe/Berlin
BEGIN:DAYLIGHT
TZOFFSETFROM:+0100
TZOFFSETTO:+0200
TZNAME:CEST
DTSTART:20250330T010000
END:DAYLIGHT
BEGIN:STANDARD
TZOFFSETFROM:+0200
TZOFFSETTO:+0100
TZNAME:CET
DTSTART:20251026T010000
END:STANDARD
END:VTIMEZONE
BEGIN:VEVENT
DTSTART;TZID=Europe/Berlin:20250911T190000
DTEND;TZID=Europe/Berlin:20250911T210000
DTSTAMP:20260423T203108
CREATED:20250203T152352Z
LAST-MODIFIED:20250902T090838Z
UID:7072-1757617200-1757624400@www.altstadtfreunde-altdorf.de
SUMMARY:Stammtisch
DESCRIPTION:Unser nächster Stammtisch steht vor der Tür:  \nDonnerstag\, den 11. September 2025\, um 19:00 Uhr\nim St. Paddy’s in der Himmelsleiter\, Silbergasse 4\, 90518 Altdorf
URL:https://www.altstadtfreunde-altdorf.de/veranstaltung/stammtisch-46/
LOCATION:St. Paddy´s\, Silbergasse 4\, Altdorf b. Nbg\, 90518\, Deutschland
CATEGORIES:Altstadtfreunde
END:VEVENT
END:VCALENDAR