BEGIN:VCALENDAR
VERSION:2.0
PRODID:-//Altstadtfreunde Altdorf - ECPv5.3.1//NONSGML v1.0//EN
CALSCALE:GREGORIAN
METHOD:PUBLISH
X-WR-CALNAME:Altstadtfreunde Altdorf
X-ORIGINAL-URL:https://www.altstadtfreunde-altdorf.de
X-WR-CALDESC:Veranstaltungen für Altstadtfreunde Altdorf
BEGIN:VTIMEZONE
TZID:Europe/Berlin
BEGIN:DAYLIGHT
TZOFFSETFROM:+0100
TZOFFSETTO:+0200
TZNAME:CEST
DTSTART:20260329T010000
END:DAYLIGHT
BEGIN:STANDARD
TZOFFSETFROM:+0200
TZOFFSETTO:+0100
TZNAME:CET
DTSTART:20261025T010000
END:STANDARD
END:VTIMEZONE
BEGIN:VEVENT
DTSTART;TZID=Europe/Berlin:20261207T193000
DTEND;TZID=Europe/Berlin:20261207T210000
DTSTAMP:20260421T182413
CREATED:20251128T115927Z
LAST-MODIFIED:20251202T132558Z
UID:7582-1796671800-1796677200@www.altstadtfreunde-altdorf.de
SUMMARY:Dämmerschoppen / Themenabend
DESCRIPTION:Architekt Hans-Günther Schwarz referiert über\n„ZiHaus – Haus ohne Heizung“ \nBeginn 19:30 im Saal der Raiffeisenbank
URL:https://www.altstadtfreunde-altdorf.de/veranstaltung/daemmerschoppen-themenabend-8/
LOCATION:Raiffeisenbank im Nürnberger Land eG\, Unterer Markt 10\, 90518 Altdorf\, Deutschland
CATEGORIES:Altstadtfreunde
END:VEVENT
END:VCALENDAR