BEGIN:VCALENDAR
VERSION:2.0
PRODID:-//Altstadtfreunde Altdorf - ECPv5.3.1//NONSGML v1.0//EN
CALSCALE:GREGORIAN
METHOD:PUBLISH
X-WR-CALNAME:Altstadtfreunde Altdorf
X-ORIGINAL-URL:https://www.altstadtfreunde-altdorf.de
X-WR-CALDESC:Veranstaltungen für Altstadtfreunde Altdorf
BEGIN:VTIMEZONE
TZID:Europe/Berlin
BEGIN:DAYLIGHT
TZOFFSETFROM:+0100
TZOFFSETTO:+0200
TZNAME:CEST
DTSTART:20260329T010000
END:DAYLIGHT
BEGIN:STANDARD
TZOFFSETFROM:+0200
TZOFFSETTO:+0100
TZNAME:CET
DTSTART:20261025T010000
END:STANDARD
END:VTIMEZONE
BEGIN:VEVENT
DTSTART;TZID=Europe/Berlin:20261005T193000
DTEND;TZID=Europe/Berlin:20261005T210000
DTSTAMP:20260423T112558
CREATED:20251128T115511Z
LAST-MODIFIED:20251202T132703Z
UID:7576-1791228600-1791234000@www.altstadtfreunde-altdorf.de
SUMMARY:Dämmerschoppen / Themenabend
DESCRIPTION:R. Christopher referiert über\n„Die goldene Straße“ \nBeginn 19:30 im Saal der Raiffeisenbank
URL:https://www.altstadtfreunde-altdorf.de/veranstaltung/daemmerschoppen-themenabend-6/
LOCATION:Raiffeisenbank im Nürnberger Land eG\, Unterer Markt 10\, 90518 Altdorf\, Deutschland
CATEGORIES:Altstadtfreunde
END:VEVENT
END:VCALENDAR