BEGIN:VCALENDAR
VERSION:2.0
PRODID:-//Altstadtfreunde Altdorf - ECPv5.3.1//NONSGML v1.0//EN
CALSCALE:GREGORIAN
METHOD:PUBLISH
X-WR-CALNAME:Altstadtfreunde Altdorf
X-ORIGINAL-URL:https://www.altstadtfreunde-altdorf.de
X-WR-CALDESC:Veranstaltungen für Altstadtfreunde Altdorf
BEGIN:VTIMEZONE
TZID:Europe/Berlin
BEGIN:DAYLIGHT
TZOFFSETFROM:+0100
TZOFFSETTO:+0200
TZNAME:CEST
DTSTART:20250330T010000
END:DAYLIGHT
BEGIN:STANDARD
TZOFFSETFROM:+0200
TZOFFSETTO:+0100
TZNAME:CET
DTSTART:20251026T010000
END:STANDARD
END:VTIMEZONE
BEGIN:VEVENT
DTSTART;TZID=Europe/Berlin:20250915T193000
DTEND;TZID=Europe/Berlin:20250915T210000
DTSTAMP:20260423T215448
CREATED:20241204T091021Z
LAST-MODIFIED:20250829T072633Z
UID:7014-1757964600-1757970000@www.altstadtfreunde-altdorf.de
SUMMARY:Dämmerschoppen / Themenabend mit Exkursion
DESCRIPTION:Günther Krausser – „Bäckerei\, Baustelle\, … und bald …!“\nUmnutzung eines kleinen Altstadt-Ensembles von einem konventionellen\nWohn- und Geschäftshaus hin zu einem nachhaltig sanierten\, modernen\nZukunftsort für Kultur\, Leben\, Arbeiten unter einem Dach. \nVeranstaltungsort: Kiliansgasse 3-5
URL:https://www.altstadtfreunde-altdorf.de/veranstaltung/daemmerschoppen-themenabend-2/
LOCATION:Kiliansgasse 3-5\, Kiliansgasse 3-5\, Altdorf\, 90518
CATEGORIES:Altstadtfreunde
END:VEVENT
END:VCALENDAR