BEGIN:VCALENDAR
VERSION:2.0
PRODID:-//Altstadtfreunde Altdorf - ECPv5.3.1//NONSGML v1.0//EN
CALSCALE:GREGORIAN
METHOD:PUBLISH
X-WR-CALNAME:Altstadtfreunde Altdorf
X-ORIGINAL-URL:https://www.altstadtfreunde-altdorf.de
X-WR-CALDESC:Veranstaltungen für Altstadtfreunde Altdorf
BEGIN:VTIMEZONE
TZID:Europe/Berlin
BEGIN:DAYLIGHT
TZOFFSETFROM:+0100
TZOFFSETTO:+0200
TZNAME:CEST
DTSTART:20240331T010000
END:DAYLIGHT
BEGIN:STANDARD
TZOFFSETFROM:+0200
TZOFFSETTO:+0100
TZNAME:CET
DTSTART:20241027T010000
END:STANDARD
END:VTIMEZONE
BEGIN:VEVENT
DTSTART;TZID=Europe/Berlin:20241104T193000
DTEND;TZID=Europe/Berlin:20241104T210000
DTSTAMP:20260423T123731
CREATED:20240308T084742Z
LAST-MODIFIED:20241105T082743Z
UID:6479-1730748600-1730754000@www.altstadtfreunde-altdorf.de
SUMMARY:Dämmerschoppen
DESCRIPTION:Informationsveranstaltung der Kripo Schwabach z.B. über Internetkriminalität\, Enkeltrick\, Schockanrufe. \nDie Veranstaltung findet im Saal der Raiba Altdorf statt. \nWir freuen uns auf Ihren Besuch und Gäste sind selbstverständlich herzlich willkommen.
URL:https://www.altstadtfreunde-altdorf.de/veranstaltung/daemmerschoppen-40/
LOCATION:Raiffeisenbank im Nürnberger Land eG\, Unterer Markt 10\, 90518 Altdorf\, Deutschland
CATEGORIES:Altstadtfreunde
END:VEVENT
END:VCALENDAR