BEGIN:VCALENDAR
VERSION:2.0
PRODID:-//Altstadtfreunde Altdorf - ECPv5.3.1//NONSGML v1.0//EN
CALSCALE:GREGORIAN
METHOD:PUBLISH
X-WR-CALNAME:Altstadtfreunde Altdorf
X-ORIGINAL-URL:https://www.altstadtfreunde-altdorf.de
X-WR-CALDESC:Veranstaltungen für Altstadtfreunde Altdorf
BEGIN:VTIMEZONE
TZID:Europe/Berlin
BEGIN:DAYLIGHT
TZOFFSETFROM:+0100
TZOFFSETTO:+0200
TZNAME:CEST
DTSTART:20260329T010000
END:DAYLIGHT
BEGIN:STANDARD
TZOFFSETFROM:+0200
TZOFFSETTO:+0100
TZNAME:CET
DTSTART:20261025T010000
END:STANDARD
END:VTIMEZONE
BEGIN:VEVENT
DTSTART;TZID=Europe/Berlin:20260705T100000
DTEND;TZID=Europe/Berlin:20260705T140000
DTSTAMP:20260419T175058
CREATED:20251128T115220Z
LAST-MODIFIED:20260324T122836Z
UID:7574-1783245600-1783260000@www.altstadtfreunde-altdorf.de
SUMMARY:40 jähriges Vereinsjubiläum
DESCRIPTION:Wir feien unser 40 jähriges Vereinsjubiläum von 10:00 bis 14:00 am Marktplatz in unseren\nZelten direkt vor der Sparkasse. \nWeitere Details werden rechtzeitig bekannt gegeben
URL:https://www.altstadtfreunde-altdorf.de/veranstaltung/40-jaehriges-vereinsjubilaeum/
CATEGORIES:Altstadtfreunde
END:VEVENT
END:VCALENDAR