BEGIN:VCALENDAR
VERSION:2.0
PRODID:-//Altstadtfreunde Altdorf - ECPv5.3.1//NONSGML v1.0//EN
CALSCALE:GREGORIAN
METHOD:PUBLISH
X-WR-CALNAME:Altstadtfreunde Altdorf
X-ORIGINAL-URL:http://www.altstadtfreunde-altdorf.de
X-WR-CALDESC:Veranstaltungen für Altstadtfreunde Altdorf
BEGIN:VTIMEZONE
TZID:Europe/Berlin
BEGIN:DAYLIGHT
TZOFFSETFROM:+0100
TZOFFSETTO:+0200
TZNAME:CEST
DTSTART:20220327T010000
END:DAYLIGHT
BEGIN:STANDARD
TZOFFSETFROM:+0200
TZOFFSETTO:+0100
TZNAME:CET
DTSTART:20221030T010000
END:STANDARD
END:VTIMEZONE
BEGIN:VEVENT
DTSTART;TZID=Europe/Berlin:20220617T193000
DTEND;TZID=Europe/Berlin:20220617T203000
DTSTAMP:20260420T211515
CREATED:20220413T092102Z
LAST-MODIFIED:20220613T131505Z
UID:5526-1655494200-1655497800@www.altstadtfreunde-altdorf.de
SUMMARY:Dämmerschoppen  -  mal anders und am Freitag ENTFÄLLT !!
DESCRIPTION:Leider muss unser Besuch beim Steinmetz Vester krankheitsbedingt abgesagt werden!!\nFreitag 17.06.2022\, 19:30\nLederersmühle 5 \nWir bemühen uns um einen Ersatztermin.
URL:http://www.altstadtfreunde-altdorf.de/veranstaltung/daemmerschoppen-mal-anders-und-am-freitag/
LOCATION:Steinmetz Vestner\, Lederersmühle 5\, Altdorf\, 90518\, Deutschland
CATEGORIES:Altstadtfreunde
END:VEVENT
END:VCALENDAR