BEGIN:VCALENDAR
VERSION:2.0
PRODID:-//Altstadtfreunde Altdorf - ECPv5.3.1//NONSGML v1.0//EN
CALSCALE:GREGORIAN
METHOD:PUBLISH
X-WR-CALNAME:Altstadtfreunde Altdorf
X-ORIGINAL-URL:http://www.altstadtfreunde-altdorf.de
X-WR-CALDESC:Veranstaltungen für Altstadtfreunde Altdorf
BEGIN:VTIMEZONE
TZID:Europe/Berlin
BEGIN:DAYLIGHT
TZOFFSETFROM:+0100
TZOFFSETTO:+0200
TZNAME:CEST
DTSTART:20230326T010000
END:DAYLIGHT
BEGIN:STANDARD
TZOFFSETFROM:+0200
TZOFFSETTO:+0100
TZNAME:CET
DTSTART:20231029T010000
END:STANDARD
END:VTIMEZONE
BEGIN:VEVENT
DTSTART;TZID=Europe/Berlin:20230508T193000
DTEND;TZID=Europe/Berlin:20230508T210000
DTSTAMP:20260421T142406
CREATED:20230316T111028Z
LAST-MODIFIED:20230428T130127Z
UID:5811-1683574200-1683579600@www.altstadtfreunde-altdorf.de
SUMMARY:Dämmerschoppen - Terminverschiebung!!!
DESCRIPTION:Der Dämmerschoppen ist auf den 15.05.2023 verschoben
URL:http://www.altstadtfreunde-altdorf.de/veranstaltung/daemmerschoppen-37/
CATEGORIES:Altstadtfreunde
END:VEVENT
END:VCALENDAR