BEGIN:VCALENDAR
VERSION:2.0
PRODID:-//Altstadtfreunde Altdorf - ECPv5.3.1//NONSGML v1.0//EN
CALSCALE:GREGORIAN
METHOD:PUBLISH
X-WR-CALNAME:Altstadtfreunde Altdorf
X-ORIGINAL-URL:http://www.altstadtfreunde-altdorf.de
X-WR-CALDESC:Veranstaltungen für Altstadtfreunde Altdorf
BEGIN:VTIMEZONE
TZID:Europe/Berlin
BEGIN:DAYLIGHT
TZOFFSETFROM:+0100
TZOFFSETTO:+0200
TZNAME:CEST
DTSTART:20220327T010000
END:DAYLIGHT
BEGIN:STANDARD
TZOFFSETFROM:+0200
TZOFFSETTO:+0100
TZNAME:CET
DTSTART:20221030T010000
END:STANDARD
END:VTIMEZONE
BEGIN:VEVENT
DTSTART;TZID=Europe/Berlin:20220917T000000
DTEND;TZID=Europe/Berlin:20220917T000000
DTSTAMP:20260422T112714
CREATED:20220413T092622Z
LAST-MODIFIED:20220831T120141Z
UID:5533-1663372800-1663372800@www.altstadtfreunde-altdorf.de
SUMMARY:Ausflug zum Brückkanal - Termin auf den 16.09.22 verschoben
DESCRIPTION:Wir müssen diesen Termin auf den 16.09.2022 verschieben.\nDie Führungen werden vom Wasserwirtschaftsamt Nürnberg organisiert\nund können leider NICHT am Wochenende stattfinden.\nWir bitten um Euer Verständnis
URL:http://www.altstadtfreunde-altdorf.de/veranstaltung/ausflug-zum-brueckkanal/
LOCATION:Brückkanal\, Am Brückkanal 3\, Feucht\, 90537
CATEGORIES:Altstadtfreunde
END:VEVENT
END:VCALENDAR