BEGIN:VCALENDAR
VERSION:2.0
PRODID:-//Altstadtfreunde Altdorf - ECPv5.3.1//NONSGML v1.0//EN
CALSCALE:GREGORIAN
METHOD:PUBLISH
X-WR-CALNAME:Altstadtfreunde Altdorf
X-ORIGINAL-URL:http://www.altstadtfreunde-altdorf.de
X-WR-CALDESC:Veranstaltungen für Altstadtfreunde Altdorf
BEGIN:VTIMEZONE
TZID:Europe/Berlin
BEGIN:DAYLIGHT
TZOFFSETFROM:+0100
TZOFFSETTO:+0200
TZNAME:CEST
DTSTART:20220327T010000
END:DAYLIGHT
BEGIN:STANDARD
TZOFFSETFROM:+0200
TZOFFSETTO:+0100
TZNAME:CET
DTSTART:20221030T010000
END:STANDARD
END:VTIMEZONE
BEGIN:VEVENT
DTSTART;TZID=Europe/Berlin:20220723T170000
DTEND;TZID=Europe/Berlin:20220724T200000
DTSTAMP:20260420T223124
CREATED:20220413T095115Z
LAST-MODIFIED:20220413T095115Z
UID:5551-1658595600-1658692800@www.altstadtfreunde-altdorf.de
SUMMARY:5. Wallensteinwochenende
DESCRIPTION:Besuchen Sie den Stand der Altstadtfreunde beim Kulturrathaus.\nGenießen Sie lecker Essen und Trinken. \nDie Altstadtfreunde stellt die Bürgerwehr.\nBesuchen Sie das Volksstück „Wallenstein in Altdorf“ und staunen Sie über unsere Bürgerwehr.\nTermine finden Sie auf der Homepage des Wallenstein-Festspielverein Altdorf e.V.\nhttps://wallensteinfestspiele.de
URL:http://www.altstadtfreunde-altdorf.de/veranstaltung/5-wallensteinwochenende/
CATEGORIES:Altstadtfreunde
END:VEVENT
END:VCALENDAR